BEGIN:VCALENDAR
VERSION:2.0
PRODID:-//Wray-with-Botton Parish Council//Meeting Calendar//EN
CALSCALE:GREGORIAN
METHOD:PUBLISH
BEGIN:VEVENT
UID:70612-20250113@wraywithbottonparishcouncil.gov.uk
DTSTAMP:20260422T084446Z
DTSTART;VALUE=DATE:20250113
DTEND;VALUE=DATE:20250114
SUMMARY:Council Meeting 13th January 2025
DESCRIPTION:Full Council Meeting\nView details: https://wraywithbottonparishcouncil.gov.uk/meetings/council-meeting-13th-january-2025/
URL:https://wraywithbottonparishcouncil.gov.uk/meetings/council-meeting-13th-january-2025/
END:VEVENT
END:VCALENDAR
